BEGIN:VCALENDAR
VERSION:2.0
PRODID:-//Tukios.com/
BEGIN:VEVENT
UID:14631de8-1ef8-45a3-9761-f69786c2710b@www.bacarellafuneralhome.com
DTSTAMP:20260421T193800Z
DTSTART:20260515T160000Z
DTEND:20260515T200000Z
SUMMARY:Celebration of Life
DESCRIPTION:
URL:https://www.bacarellafuneralhome.com/obituaries/richard-klatt-sr
LOCATION:Monroe County Rod & Gun Club 6280 Lighthouse Road  Monroe MI 
	48161
GEO:41.8646921;-83.3986038
END:VEVENT
END:VCALENDAR