BEGIN:VCALENDAR
VERSION:2.0
PRODID:-//Tukios.com/
BEGIN:VEVENT
UID:033f3807-4ace-415e-b463-d61984298edc@www.bacarellafuneralhome.com
DTSTAMP:20260422T001148Z
DTSTART:20260427T150000Z
DTEND:20260427T160000Z
SUMMARY:Mass
DESCRIPTION:Instate 10 a.m.
URL:https://www.bacarellafuneralhome.com/obituaries/michael-williams
LOCATION:St. Charles Catholic Church 8033 N. Dixie Hwy.  Newport MI 48166
GEO:41.9949652;-83.2875255
END:VEVENT
END:VCALENDAR