BEGIN:VCALENDAR
VERSION:2.0
PRODID:-//Tukios.com/
BEGIN:VEVENT
UID:45104a14-548b-4cfe-803c-f17152ae61a2@www.bacarellafuneralhome.com
DTSTAMP:20260422T001148Z
DTSTART:20260426T200000Z
DTEND:20260426T230000Z
SUMMARY:Visitation
DESCRIPTION:
URL:https://www.bacarellafuneralhome.com/obituaries/michael-williams
LOCATION: 1201 S Telegraph Rd  Monroe MI 48161
GEO:41.9091943;-83.4220826
END:VEVENT
END:VCALENDAR