BEGIN:VCALENDAR
VERSION:2.0
PRODID:-//Tukios.com/
BEGIN:VEVENT
UID:c8ec9107-cb67-4be5-b6a8-916a777332e4@www.bacarellafuneralhome.com
DTSTAMP:20260425T204437Z
DTSTART:20260430T150000Z
DTEND:20260430T160000Z
SUMMARY:Funeral Service
DESCRIPTION:
URL:https://www.bacarellafuneralhome.com/obituaries/jon-w-shelton
LOCATION: 127 North Monroe Street  Monroe MI 48162
GEO:41.918743;-83.3966708
END:VEVENT
END:VCALENDAR