BEGIN:VCALENDAR
VERSION:2.0
PRODID:-//Tukios.com/
BEGIN:VEVENT
UID:b75e9faa-e347-4d9b-9e4b-78c40854868d@www.bacarellafuneralhome.com
DTSTAMP:20260425T204409Z
DTSTART:20260429T180000Z
DTEND:20260430T000000Z
SUMMARY:Visitation
DESCRIPTION:
URL:https://www.bacarellafuneralhome.com/obituaries/jon-w-shelton
LOCATION: 1201 S Telegraph Rd  Monroe MI 48161
GEO:41.9091943;-83.4220826
END:VEVENT
END:VCALENDAR