BEGIN:VCALENDAR
VERSION:2.0
PRODID:-//Tukios.com/
BEGIN:VEVENT
UID:87173346-389f-4c8f-9f7a-ca4af75f6524@www.bacarellafuneralhome.com
DTSTAMP:20260421T193800Z
DTSTART:20260502T170000Z
DTEND:20260502T190000Z
SUMMARY:Memorial Visitation
DESCRIPTION:
URL:https://www.bacarellafuneralhome.com/obituaries/james-labeau-jr
LOCATION:Bacarella Funeral Home, Inc. 1201 S Telegraph Rd  Monroe MI 
	48161
GEO:41.9091943;-83.4220826
END:VEVENT
END:VCALENDAR